BEGIN:VCALENDAR
VERSION:2.0
PRODID:-//eventon.com NONSGML v1.0//EN
CALSCALE:GREGORIAN
METHOD:PUBLISH
BEGIN:VEVENT
UID:69e527a76d4e3
DTSTAMP:20260419T210615
DTSTART:20190315T130000Z
DTEND:20190315T140000Z
TZID:Europe/Budapest
LOCATION:
SUMMARY:Filmworkshop 6-12 éves gyerekeknek (Copy) (Copy) (Copy)
DESCRIPTION:LEGO-\,  étel és gyurmaanimációs filmkészítő workshop a GyerekfilmAkadémia közreműködésével\,  a Lóvasút és az újonnan nyíló EBER desszert közös programján\,  március 15-i tematizálásban. időtartama | 1 óra korlátozott férőhely | 16 fő Csak huszárosan! március 15. a Lóvasúton (zene\,  desszertek\,  kávé\,  terasz\,  természet)\nhttps://lovasut.hu/events/filmworkshop-6-12-eves-gyerekeknek-copy-copy-copy/
URL:https://lovasut.hu/events/filmworkshop-6-12-eves-gyerekeknek-copy-copy-copy/
END:VEVENT
END:VCALENDAR