BEGIN:VCALENDAR
VERSION:2.0
PRODID:-//eventon.com NONSGML v1.0//EN
CALSCALE:GREGORIAN
METHOD:PUBLISH
BEGIN:VEVENT
UID:69e6f60f07527
DTSTAMP:20260421T055911
DTSTART:20190317T100000Z
DTEND:20190317T120000Z
TZID:Europe/Budapest
LOCATION:
SUMMARY:Családi Alkotóműhely
DESCRIPTION:Minden hónap harmadik vasárnapján szeretettel várjuk a családokat alkotóműhelyünkbe\,  ahol kreatív foglalkozás keretében ismerkedünk a Hegyvidék izgalmas történetével\,  híres alakjaival és érdekességeivel. Szereted a virágokat? Otthon is neveltek néhány növényt? Szeretnéd kicsinosítani a kaspójukat? Akkor a márciusi Családi alkotóműhely neked szól! Március 17-én apró virágok ültetésével és kaspójuk díszítésével köszöntjük[..]\nhttps://lovasut.hu/events/csaladi-alkotomuhely-2/
URL:https://lovasut.hu/events/csaladi-alkotomuhely-2/
END:VEVENT
END:VCALENDAR