BEGIN:VCALENDAR
VERSION:2.0
PRODID:-//eventon.com NONSGML v1.0//EN
CALSCALE:GREGORIAN
METHOD:PUBLISH
BEGIN:VEVENT
UID:69e9903f6690a
DTSTAMP:20260423T052135
DTSTART:20190707T190000Z
DTEND:20190707T210000Z
TZID:Europe/Budapest
LOCATION:
SUMMARY:Zenés vendégség
DESCRIPTION:Budapesten először várja a Lóvasúton a Lanner Kvartett Zenés Vendégségébe a koncertlátogató közönséget. Az est során vendégszólistaként a nemzetközi operaéletbe pár éve berobbant kitűnő énekes\,  Cser Krisztián működik közre\,  aki Mozart Varázsfuvolájából és Figarójából fog híres áriákat előadni. A műsor végén a zenekar a közönséggel együtt koccint egy pohár pezsgővel. [..]\nhttps://lovasut.hu/events/zenes-vendegseg/
URL:https://lovasut.hu/events/zenes-vendegseg/
END:VEVENT
END:VCALENDAR