BEGIN:VCALENDAR
VERSION:2.0
PRODID:-//eventon.com NONSGML v1.0//EN
CALSCALE:GREGORIAN
METHOD:PUBLISH
BEGIN:VEVENT
UID:69ed37c2a5203
DTSTAMP:20260425T235306
DTSTART:20190925T193000Z
DTEND:20190925T211000Z
TZID:Europe/Budapest
LOCATION:
SUMMARY:#Wagner | Bősze Ádám előadássorozata
DESCRIPTION:A zenetörténet legismertebb zeneszerzői és az ő szerelmi életük. Illetve nem is: a legvonzóbb nők és férfiak\,  akikbe a legnagyobb zeneszerzők lettek szerelmesek. Bősze Ádám előadássorozata először Budapesten a Lóvasút Kulturális és Rendezvényközpontban havonta egy alkalommal\,  2019 szeptemberétől 2020 júniusáig. Wagner\,  Mendelssohn\,  Puccini\,  Mozart\,  Brahms\,  Schumann\,  Britten\,  Liszt\,  Mahler és[..]\nhttps://lovasut.hu/events/nagy-zeneszek-nagy-szerelmek-wagner/
URL:https://lovasut.hu/events/nagy-zeneszek-nagy-szerelmek-wagner/
END:VEVENT
END:VCALENDAR