BEGIN:VCALENDAR
VERSION:2.0
PRODID:-//eventon.com NONSGML v1.0//EN
CALSCALE:GREGORIAN
METHOD:PUBLISH
BEGIN:VEVENT
UID:69e60eddae65a
DTSTAMP:20260420T133245
DTSTART:20191018T200000Z
DTEND:20191018T213000Z
TZID:Europe/Budapest
LOCATION:
SUMMARY:Wigama Lekko | Nincsen baj!
DESCRIPTION:Hrutka Róbert Fonogram- és Artisjus-díjas gitáros\,  énekes\,  zeneszerző és Nagy Dániel Viktor Junior Prima díjas színművész három éve dolgoznak együtt különböző színházi és könnyűzenei projektekben. A számos koncert és zenei feldolgozás után most közös dalaikat mutatják be egy rendhagyó zenés est keretein belül. Az egyedi\,  érzelemdús és lendületes dalokat olyan Budapestről szóló[..]\nhttps://lovasut.hu/events/wigama-lekko-nincsen-baj-hrutka-robert-nagy-daniel-viktor/
URL:https://lovasut.hu/events/wigama-lekko-nincsen-baj-hrutka-robert-nagy-daniel-viktor/
END:VEVENT
END:VCALENDAR