BEGIN:VCALENDAR
VERSION:2.0
PRODID:-//eventon.com NONSGML v1.0//EN
CALSCALE:GREGORIAN
METHOD:PUBLISH
BEGIN:VEVENT
UID:69e80c24261e8
DTSTAMP:20260422T014540
DTSTART:20191229T190000Z
DTEND:20191229T201000Z
TZID:Europe/Budapest
LOCATION:
SUMMARY:be happy
DESCRIPTION:Két magányos lélek találkozik. Szeretetre éhesek. Egy felnőtt és egy gyerek. Mint Chaplin és a Kölyök vagy Leon és Mathilda. Szükségük van egymásra\,  de a világ ezt máshogy gondolja. Nonverbális mozgásszínház\,  burleszk\,  és karácsony\,  és Száncsengő\,  és I love you\,  és Habos sütemény! Az előadást Chaplin: A kölyök című filmje[..]\nhttps://lovasut.hu/events/be-happy-2/
URL:https://lovasut.hu/events/be-happy-2/
END:VEVENT
END:VCALENDAR