BEGIN:VCALENDAR
VERSION:2.0
PRODID:-//eventon.com NONSGML v1.0//EN
CALSCALE:GREGORIAN
METHOD:PUBLISH
BEGIN:VEVENT
UID:69e82d2e6f137
DTSTAMP:20260422T040638
DTSTART:20211025T190000Z
DTEND:20211025T201500Z
TZID:Europe/Budapest
LOCATION:
SUMMARY:67-es korongok
DESCRIPTION:Tisztelt Látogatónk! 67-es korongok c. program Gimesy Péter előadó kérésére 2022. tavaszára kerül át. Az újabb időpontmódosítás miatt úgy határoztunk\,  hogy a korábban már megvásárolt jegyeket visszaváltjuk. Ha az új időpontban (tervezetten: 2022. április 11.) szeretne részt venni az előadásokon\,  a lovasut.jegy.hu oldalon lehetőség nyílik a megfelelő dátumra újra belépőt venni.  Köszönjük[..]\nhttps://lovasut.hu/events/brit-csodaharmas-3/
URL:https://lovasut.hu/events/brit-csodaharmas-3/
END:VEVENT
END:VCALENDAR