BEGIN:VCALENDAR
VERSION:2.0
PRODID:-//eventon.com NONSGML v1.0//EN
CALSCALE:GREGORIAN
METHOD:PUBLISH
BEGIN:VEVENT
UID:69eca0b8dbdbe
DTSTAMP:20260425T130840
DTSTART:20200315T100000Z
DTEND:20200315T120000Z
TZID:Europe/Budapest
LOCATION:
SUMMARY:Csak huszárosan!
DESCRIPTION:2020. március 11-én Magyarország kormánya betiltotta a tömegrendezvényeket a koronavírus-járvány terjedésének minél hatékonyabb megelőzése érdekében. A MOMkult és tagintézményei (Barabás Villa\,  Kulturális Szalon\,  Helytörténeti Gyűjtemény\,  Hegyvidék Galéria\,  Lóvasút) üzleti rendezvényei és kulturális programjai korlátozásra kerülnek. A program elmarad. A zugligeti Lóvasút programján tavaszi\,  forradalmian friss szendvicsfalatokat készítünk Halmos Monikával\,  vadnövényekkel[..]\nhttps://lovasut.hu/events/csak-huszarosan/
URL:https://lovasut.hu/events/csak-huszarosan/
END:VEVENT
END:VCALENDAR