BEGIN:VCALENDAR
VERSION:2.0
PRODID:-//eventon.com NONSGML v1.0//EN
CALSCALE:GREGORIAN
METHOD:PUBLISH
BEGIN:VEVENT
UID:69e4f9f94df3a
DTSTAMP:20260419T175121
DTSTART:20200813T190000Z
DTEND:20200813T210000Z
TZID:Europe/Budapest
LOCATION:
SUMMARY:Vibrotanica - under the stars
DESCRIPTION:http://vibrotanica.j3zz.com (Scroll down for English) Bioakusztikus ambient stílusú koncertélmény elektronikus hangszerekkel és a növények hangjaival a Lóvasút teraszán. Vibrotanica című új\,  interdiszciplináris jellegű előadásában Jérôme Li-Thiao-Té / J3ZZ francia hegedűművész\,  zeneszerző és mérnök szülőhelye\,  a Réunion-sziget iránti szeretetét és tiszteletét mutatja be. A Vibrotanica egy számos érzéket megmozgató\,  audiovizuális élmény.[..]\nhttps://lovasut.hu/events/vibrotanica-under-the-stars/
URL:https://lovasut.hu/events/vibrotanica-under-the-stars/
END:VEVENT
END:VCALENDAR