BEGIN:VCALENDAR
VERSION:2.0
PRODID:-//eventon.com NONSGML v1.0//EN
CALSCALE:GREGORIAN
METHOD:PUBLISH
BEGIN:VEVENT
UID:69e6975c0fb87
DTSTAMP:20260420T231508
DTSTART:20200721T103000Z
DTEND:20200721T113000Z
TZID:Europe/Budapest
LOCATION:
SUMMARY:A csodálatos cinegemadár
DESCRIPTION:Gyere(k) a Zugligetbe! Gyerekprogramok kedd délelőttökön a zugligeti Lóvasúton. Tatay Színház: A csodálatos cinegemadár Ez az olasz népmese egy kisfiú és egy csodálatos cinegemadár barátságáról szól. Mi kell ahhoz\,  hogy valaki a barátunk legyen? Hogyan törődünk azzal\,  aki mellénk szegődik? Olasz népzenével kísért vidám kalandos történet Petiről és az aranyat[..]\nhttps://lovasut.hu/events/a-csodalatos-cinegemadar/
URL:https://lovasut.hu/events/a-csodalatos-cinegemadar/
END:VEVENT
END:VCALENDAR