BEGIN:VCALENDAR
VERSION:2.0
PRODID:-//eventon.com NONSGML v1.0//EN
CALSCALE:GREGORIAN
METHOD:PUBLISH
BEGIN:VEVENT
UID:69e7f6d6dce73
DTSTAMP:20260422T001446
DTSTART:20201009T190000Z
DTEND:20201009T200000Z
TZID:Europe/Budapest
LOCATION:
SUMMARY:Janikovszky Éva - Auróra FolkGlamour: A lemez két oldala
DESCRIPTION:* egyfelvonásos képzeletszínházi előadás felnőtteknek: éles tükör szavakból csiszolva * emberi játszmák férfi hangokon * abszolút szórakoztató színház: egy óra nevetőizom tréning A lemez A oldalán hallható: Szalontay Tünde A lemez B oldalán hallható: Oszter Alexandra Az est házigazdája: Iványuk Áron\,  pszichológus\,  szexuálpszichológus-hallgató Színpadkép: Nemeth Hajnal Aurora Az eredeti könyvből a színpadi[..]\nhttps://lovasut.hu/events/janikovszky-eva-aurora-folkglamour-a-lemez-ket-oldala-1009/
URL:https://lovasut.hu/events/janikovszky-eva-aurora-folkglamour-a-lemez-ket-oldala-1009/
END:VEVENT
END:VCALENDAR