BEGIN:VCALENDAR
VERSION:2.0
PRODID:-//eventon.com NONSGML v1.0//EN
CALSCALE:GREGORIAN
METHOD:PUBLISH
BEGIN:VEVENT
UID:69e6f176e64c2
DTSTAMP:20260421T053934
DTSTART:20210928T190000Z
DTEND:20210928T201500Z
TZID:Europe/Budapest
LOCATION:
SUMMARY:Guessous Mesi: „Átváltozás – Sorsok & Dalok” lemezbemutató koncert
DESCRIPTION:A járványra való tekintettel a lemezbemutató koncert új időpontban kerül megrendezésre:  Régi időpont: 2020. november 24.\,  2021. május 25. Új időpont: 2021. szeptember 28. (Az új időpontra érvényesek a már megvásárolt jegyek. Amennyiben az új időpont a vásárló számára nem megfelelő\,  úgy azt a program@momkult.hu e-mailcímen szíveskedjen jelezni\,  és válaszban[..]\nhttps://lovasut.hu/events/guessous-mesi-atvaltozas-dalok-sorsok-lemezbemutato-koncert/
URL:https://lovasut.hu/events/guessous-mesi-atvaltozas-dalok-sorsok-lemezbemutato-koncert/
END:VEVENT
END:VCALENDAR