BEGIN:VCALENDAR
VERSION:2.0
PRODID:-//eventon.com NONSGML v1.0//EN
CALSCALE:GREGORIAN
METHOD:PUBLISH
BEGIN:VEVENT
UID:69e60aa1b4dfc
DTSTAMP:20260420T131441
DTSTART:20211213T193000Z
DTEND:20211213T210000Z
TZID:Europe/Budapest
LOCATION:
SUMMARY:Forradalmi etűdök - Cziffra György
DESCRIPTION:Szükséges-e a forradalom a zenében? Szükséges-e ledönteni a falakat\,  átlépni a határokat ahhoz\,  hogy maradandót hozzunk létre? Nos\,  ahelyett\,  hogy zeneesztétikai sorozatot indítanánk inkább annak járunk utána\,  a kortárs hangversenykritika szerint mennyire volt forradalmár előadóművész Paganini\,  Liszt\,  Rahmanyinov\,  Toscanini\,  Callas\,  Horowitz vagy Cziffra? És ha igen (eláruljuk\,  ez a helyes[..]\nhttps://lovasut.hu/events/cziffra100-cziffra-gyorgy/
URL:https://lovasut.hu/events/cziffra100-cziffra-gyorgy/
END:VEVENT
END:VCALENDAR