BEGIN:VCALENDAR
VERSION:2.0
PRODID:-//eventon.com NONSGML v1.0//EN
CALSCALE:GREGORIAN
METHOD:PUBLISH
BEGIN:VEVENT
UID:69ed4f8926b02
DTSTAMP:20260426T013433
DTSTART:20210916T190000Z
DTEND:20210916T203000Z
TZID:Europe/Budapest
LOCATION:
SUMMARY:BOGGIE
DESCRIPTION:Csemer Boglárka &#8222;Boggie&#8221; visszatérő vendége a Lóvasút Kulturális Központnak. A kétgyermekes édesanya\,  dalszerző\,  előadóművész negyedik nagylemezén dolgozik gőzerővel. Ezúttal készülő negyedik nagylemezéről tart EP bemutatót zenekarával. Az új dalok először a Lóvasútban hangzanak majd el. Elmondása szerint &#8222;minden szabad órácskát&#8221; kihasznál\,  hogy alkosson. Különleges zenei világával\,  legújabb zenei gondolataival varázsol majd[..]\nhttps://lovasut.hu/events/boggie/
URL:https://lovasut.hu/events/boggie/
END:VEVENT
END:VCALENDAR