BEGIN:VCALENDAR
VERSION:2.0
PRODID:-//eventon.com NONSGML v1.0//EN
CALSCALE:GREGORIAN
METHOD:PUBLISH
BEGIN:VEVENT
UID:69ece99594bc0
DTSTAMP:20260425T181933
DTSTART:20210921T190000Z
DTEND:20210921T213000Z
TZID:Europe/Budapest
LOCATION:
SUMMARY:A nő\,  ha negyven... (Szabó T. Anna és Janikovszky Éva képzeletszínháza felnőtteknek)
DESCRIPTION:„Én egészen másmilyen felnőtt volnék\,  és annyi mindennek örülnék…” (Janikovszky Éva) Nekem minden percem mámor\,  bizserget a víg élhetnék. Én akkor is bolondoznék\,  ha búsképű felnőtt lennék!” (Szabó T. Anna) &#8212;&#8212;&#8212;&#8212;&#8212;&#8212;&#8212;&#8212;&#8212;&#8212;&#8212;&#8212;&#8212;&#8212;&#8212;&#8212;&#8212;&#8212;&#8212;&#8212;&#8212;&#8212;&#8212;&#8212; Egyfelvonásos előadás: emberi játszmák női hangokon Abszolút szórakoztató színház: egy óra nevetőizom tréning A lemez A oldalán hallható: HORVÁTH[..]\nhttps://lovasut.hu/events/janikovszky-szabo-t-a-no-ha-negyven/
URL:https://lovasut.hu/events/janikovszky-szabo-t-a-no-ha-negyven/
END:VEVENT
END:VCALENDAR