BEGIN:VCALENDAR
VERSION:2.0
PRODID:-//eventon.com NONSGML v1.0//EN
CALSCALE:GREGORIAN
METHOD:PUBLISH
BEGIN:VEVENT
UID:69e616a1cddd9
DTSTAMP:20260420T140553
DTSTART:20211107T193000Z
DTEND:20211107T204500Z
TZID:Europe/Budapest
LOCATION:
SUMMARY:Márfi Márk: Telik
DESCRIPTION:Márfi Márk 2020-ban végzett az SZFE prózai színész szakán. Szakdolgozatának megírására tavasszal\,  a koronavírus-járvány alatt került sor otthon\,  vidéken. Eddig talán soha nem volt diplomázó  színészeknek ennyi koncentrált idejük a dolgozataik megírására\,  tehát a helyzet mindenképp kettős volt: egyfajta bezártságból lehetett fogalmazni\,  de ebből következően nagyobb alkotói szabadsággal.  „Kevés válaszom[..]\nhttps://lovasut.hu/events/marfi-mark-telik-copy-3/
URL:https://lovasut.hu/events/marfi-mark-telik-copy-3/
END:VEVENT
END:VCALENDAR