BEGIN:VCALENDAR
VERSION:2.0
PRODID:-//eventon.com NONSGML v1.0//EN
CALSCALE:GREGORIAN
METHOD:PUBLISH
BEGIN:VEVENT
UID:69ed830f9f204
DTSTAMP:20260426T051423
DTSTART:20220219T190000Z
DTEND:20220219T203000Z
TZID:Europe/Budapest
LOCATION:
SUMMARY:Krapek (Zabhegyező)
DESCRIPTION:A 2022. 02. 19. 19 órára meghirdetett előadás betegség miatt új dátumon\,  március 8-án lesz megtartva. A megvásárolt jegyek érvényesek az új előadásra. Amennyiben az új időpont nem megfelelő\,  a jegyek árát visszatérítjük (a szándékot kérjük jelezni a jegy[kukac]momkult.hu e-mailcímen) Köszönjük a megértést! &#8212; „Rákérdezek az életre\,  de eszem ágában[..]\nhttps://lovasut.hu/events/krapek-zabhegyezo-4/
URL:https://lovasut.hu/events/krapek-zabhegyezo-4/
END:VEVENT
END:VCALENDAR