BEGIN:VCALENDAR
VERSION:2.0
PRODID:-//eventon.com NONSGML v1.0//EN
CALSCALE:GREGORIAN
METHOD:PUBLISH
BEGIN:VEVENT
UID:69ed61b4e2c67
DTSTAMP:20260426T025204
DTSTART:20220410T190000Z
DTEND:20220410T210000Z
TZID:Europe/Budapest
LOCATION:
SUMMARY:Csendből szőtt hangszőnyeg
DESCRIPTION:Dalok ölelésével ringat és gyógyít a HolddalaNap Zenekar az elmúlt két év tanulságait muzsikába foglaló\,  elmélyült új zenei anyaga.   &#8222;Az elmúlt két év más miatt volt embert próbáló\,  mint az elmúlt hetek &#8211; nem könnyű idők ezek\,  ezért is tartjuk fontosnak\,  hogy gyógyítsuk a lelkünket zenével\,  együttléttel. Nem véletlenül[..]\nhttps://lovasut.hu/events/csendbol-szott-hangszonyeg/
URL:https://lovasut.hu/events/csendbol-szott-hangszonyeg/
END:VEVENT
END:VCALENDAR