BEGIN:VCALENDAR
VERSION:2.0
PRODID:-//eventon.com NONSGML v1.0//EN
CALSCALE:GREGORIAN
METHOD:PUBLISH
BEGIN:VEVENT
UID:69eb695b0c427
DTSTAMP:20260424T150011
DTSTART:20220329T190000Z
DTEND:20220329T201000Z
TZID:Europe/Budapest
LOCATION:
SUMMARY:Zöld Csaba: Vallomás
DESCRIPTION:Viharos szerelmi történet egy órában\,  a magyar irodalom legszebb szerelmes verseivel. Az est leköveti egy-egy szerelmi történet hangulatát Ady tipródó verseitől\,  József Attila karcosabb hangvételű versein keresztül Heltai pajkosabb\,  keserédes vallomásáig. Az előadó által megzenésített versek alkotják a műsor gerincét – amiben a kortárs irodalom is helyet kap –\,  így[..]\nhttps://lovasut.hu/events/zold-csaba-vallomas/
URL:https://lovasut.hu/events/zold-csaba-vallomas/
END:VEVENT
END:VCALENDAR