BEGIN:VCALENDAR
VERSION:2.0
PRODID:-//eventon.com NONSGML v1.0//EN
CALSCALE:GREGORIAN
METHOD:PUBLISH
BEGIN:VEVENT
UID:69e875535a842
DTSTAMP:20260422T091427
DTSTART:20220704T203000Z
DTEND:20220704T211500Z
TZID:Europe/Budapest
LOCATION:
SUMMARY:67-es korongok - Pink Floyd / The Piper at the Gates of Dawn
DESCRIPTION:Zenei ikonok\,  korszakalkotó albumok – művészettörténeti megközelítésben The Beatles és a pop art\,  Jim Morrison (The Doors) költészete\,  a Pink Floyd művészi kidolgozású albumai rengeteg zenével. Gimesy Péter művészettörténész rocktörténeti sorozatában minden alkalommal egy különleges és fordulópontnak számító albumot mutat be. Ezek a lemezek ma már megkerülhetetlenek\,  mérföldkőnek számítanak minden[..]\nhttps://lovasut.hu/events/67-es-korongok-pink-floyd-the-piper-at-the-gates-of-dawn/
URL:https://lovasut.hu/events/67-es-korongok-pink-floyd-the-piper-at-the-gates-of-dawn/
END:VEVENT
END:VCALENDAR