BEGIN:VCALENDAR
VERSION:2.0
PRODID:-//eventon.com NONSGML v1.0//EN
CALSCALE:GREGORIAN
METHOD:PUBLISH
BEGIN:VEVENT
UID:69e870501f40d
DTSTAMP:20260422T085304
DTSTART:20220615T170000Z
DTEND:20220615T180000Z
TZID:Europe/Budapest
LOCATION:
SUMMARY:OMNIBUS-koncertek
DESCRIPTION:&#8222;Zene komolyan mindenkinek!&#8221; Az OMNIBUS-koncertek a házimuzsika hagyományaira építő interaktív koncertsorozat\,  amely Mindenkinek\,  kisgyermekes családoknak is szól. Fő célja\,  hogy minden zeneszeretőnek örömet és feltöltődést nyújtson. Műsora a klasszikus kamarazene repertoárjából válogat\,  amelyet felnőttek és gyerekek számára egyaránt befogadhatóvá tesz. A megszokott kialakítású nézőtér mellett babaszőnyeg várja azokat\,  akik pici[..]\nhttps://lovasut.hu/events/omnibus-koncertek-8/
URL:https://lovasut.hu/events/omnibus-koncertek-8/
END:VEVENT
END:VCALENDAR