BEGIN:VCALENDAR
VERSION:2.0
PRODID:-//eventon.com NONSGML v1.0//EN
CALSCALE:GREGORIAN
METHOD:PUBLISH
BEGIN:VEVENT
UID:69e897b86979d
DTSTAMP:20260422T114112
DTSTART:20220515T193000Z
DTEND:20220515T215000Z
TZID:Europe/Budapest
LOCATION:
SUMMARY:Kire ütött ez a gyerek?
DESCRIPTION:KIRE ÜTÖTT EZ A GYEREK? *** P R E M I E R *** (képzeletszínház és beszélgetés a kamaszkorról és a kamaszokról) Szereplők: • HORVÁTH LILI Jászai Mari-díjas színésznő • KOVÁCS PATRÍCIA színésznő • BALATONI JÓZSEF tanár (&#8216;Jocóbácsi&#8217;) Az est megálmodója: TOLLÁR MÓNIKA rendező Portréfotók (Horváth Lili és Kovács Patrícia):[..]\nhttps://lovasut.hu/events/kire-utott-ez-a-gyerek/
URL:https://lovasut.hu/events/kire-utott-ez-a-gyerek/
END:VEVENT
END:VCALENDAR