BEGIN:VCALENDAR
VERSION:2.0
PRODID:-//eventon.com NONSGML v1.0//EN
CALSCALE:GREGORIAN
METHOD:PUBLISH
BEGIN:VEVENT
UID:69e870362953d
DTSTAMP:20260422T085238
DTSTART:20220612T200000Z
DTEND:20220612T213000Z
TZID:Europe/Budapest
LOCATION:
SUMMARY:Chameleon Jazz Band
DESCRIPTION:Hangulatkoncert Buda legizgalmasabb rendezvényhelyszínén\,  a zugligeti Lóvasút peronján. Az Artisjus-díjas Bálint Rezső harsonaművész és fiatal\,  lendületes csapata az elmúlt években 9 európai ország több mint 50 városának közönségét szórakoztatta. A koncert vázát a 2020-ban debütáló\,  saját szerzeményeket tartalmazó STORIES album és a 2021. őszén megjelent LIVE FROM TOKAJ című koncertfilm[..]\nhttps://lovasut.hu/events/chameleon-jazz-band/
URL:https://lovasut.hu/events/chameleon-jazz-band/
END:VEVENT
END:VCALENDAR