BEGIN:VCALENDAR
VERSION:2.0
PRODID:-//eventon.com NONSGML v1.0//EN
CALSCALE:GREGORIAN
METHOD:PUBLISH
BEGIN:VEVENT
UID:69e875b8c667e
DTSTAMP:20260422T091608
DTSTART:20220705T190000Z
DTEND:20220705T210000Z
TZID:Europe/Budapest
LOCATION:
SUMMARY:Psszt! Némafilm-vetítés - The Temptress
DESCRIPTION:A hosszú\,  meleg\,  budapesti nyári estéken mi is lehetne jobb program\,  mint a fákkal körülölelt zugligeti Lóvasúton klasszikus némafilmeket nézni\,  miközben Répászky Miklós Dániel zongorajátékát hallgatjuk. Ha megéheznénk\,  a messze földön híres EBER desszertező kínálatából is válogathatunk. (A cukrászda 19 óráig tart nyitva!) A Lóvasút falán: The Temptress (1926) Zongorán[..]\nhttps://lovasut.hu/events/psszt-nemafilm-vetites-the-temptress/
URL:https://lovasut.hu/events/psszt-nemafilm-vetites-the-temptress/
END:VEVENT
END:VCALENDAR