BEGIN:VCALENDAR
VERSION:2.0
PRODID:-//eventon.com NONSGML v1.0//EN
CALSCALE:GREGORIAN
METHOD:PUBLISH
BEGIN:VEVENT
UID:69e873ce4614a
DTSTAMP:20260422T090758
DTSTART:20220809T190000Z
DTEND:20220809T210000Z
TZID:Europe/Budapest
LOCATION:
SUMMARY:Psszt! Némafilm-vetítés - Flesh and The Devil
DESCRIPTION:A hosszú\,  meleg\,  budapesti nyári estéken mi is lehetne jobb program\,  mint a fákkal körülölelt zugligeti Lóvasúton klasszikus némafilmeket nézni\,  miközben Répászky Miklós Dániel zongorajátékát hallgatjuk. Ha megéheznénk\,  a messze földön híres EBER desszertező kínálatából is válogathatunk. (A cukrászda 19 óráig tart nyitva!) A Lóvasút falán: Flesh and The Devil[..]\nhttps://lovasut.hu/events/psszt-nemafilm-vetites-flesh-and-the-devil/
URL:https://lovasut.hu/events/psszt-nemafilm-vetites-flesh-and-the-devil/
END:VEVENT
END:VCALENDAR