BEGIN:VCALENDAR
VERSION:2.0
PRODID:-//eventon.com NONSGML v1.0//EN
CALSCALE:GREGORIAN
METHOD:PUBLISH
BEGIN:VEVENT
UID:69e870362a604
DTSTAMP:20260422T085238
DTSTART:20220830T190000Z
DTEND:20220830T213000Z
TZID:Europe/Budapest
LOCATION:
SUMMARY:Chameleon Jazz Band feat. Nagy Ádám
DESCRIPTION:A Chameleon Jazz Band visszatér Buda legizgalmasabb rendezvényhelyszínére\,  a zugligeti Lóvasút peronjára\,  ahol kedves közönségünkkel EGYÜTT\,  egy szórakoztató örömkoncerttel zárjuk a nyarat. Az est különleges vendége Nagy Ádám gitáros-dalszerző\,  a magyar könnyűzenei élet megkerülhetetlen alakja\,  a legendás Roy &#038; Ádám Trió\,  valamint a Wörk Projekt formáció alapítója. Az Artisjus-díjas Bálint[..]\nhttps://lovasut.hu/events/chameleon-jazz-band-nagy-adam/
URL:https://lovasut.hu/events/chameleon-jazz-band-nagy-adam/
END:VEVENT
END:VCALENDAR