BEGIN:VCALENDAR
VERSION:2.0
PRODID:-//eventon.com NONSGML v1.0//EN
CALSCALE:GREGORIAN
METHOD:PUBLISH
BEGIN:VEVENT
UID:69e872d230034
DTSTAMP:20260422T090346
DTSTART:20220724T200000Z
DTEND:20220724T204500Z
TZID:Europe/Budapest
LOCATION:
SUMMARY:Bartók Béla: A fából faragott királyfi
DESCRIPTION:A Zenélő Budapest nyári fesztivál programja kamarazenei adaptáció báb- és táncjátékra | Balázs Béla meséje alapján | zenéjét szerezte Bartók Béla Kamaraadaptáció és művészeti vezető: Götz Nándor koreográfus: Juhász Zsolt (Duna Művészegyüttes) bábmester: Lénárt András Az ingyenes programot 8 és 90 éves kor között ajánljuk. Az előadás új megközelítésben a[..]\nhttps://lovasut.hu/events/bartok-bela-a-fabol-faragott-kiralyfi/
URL:https://lovasut.hu/events/bartok-bela-a-fabol-faragott-kiralyfi/
END:VEVENT
END:VCALENDAR