BEGIN:VCALENDAR
VERSION:2.0
PRODID:-//eventon.com NONSGML v1.0//EN
CALSCALE:GREGORIAN
METHOD:PUBLISH
BEGIN:VEVENT
UID:69e6b9804de4c
DTSTAMP:20260421T014048
DTSTART:20220816T180000Z
DTEND:20220816T210000Z
TZID:Europe/Budapest
LOCATION:
SUMMARY:A Négyszögletű Kerek Erdő Küldetés
DESCRIPTION:Az előadás az időjárás miatt az eredeti (08.16.) helyett új időpontban\,  augusztus 21-én\,  18 órától valósul meg. Az eredeti időpontra váltott jegyek az új időpontban is érvényesek. Amennyiben az új időpont nem megfelelő\,  jegyeiket augusztus 21-ig visszaváltjuk. Ezzel kapcsolatos igényüket kérjük jelezzék a jegy@momkult.hu e-mail címen. Hirdetés Valóföldön: Lázár Ervin meséje[..]\nhttps://lovasut.hu/events/a-negyszogletu-kerek-erdo-kuldetes/
URL:https://lovasut.hu/events/a-negyszogletu-kerek-erdo-kuldetes/
END:VEVENT
END:VCALENDAR