BEGIN:VCALENDAR
VERSION:2.0
PRODID:-//eventon.com NONSGML v1.0//EN
CALSCALE:GREGORIAN
METHOD:PUBLISH
BEGIN:VEVENT
UID:69e87016013bb
DTSTAMP:20260422T085206
DTSTART:20220817T180000Z
DTEND:20220817T210000Z
TZID:Europe/Budapest
LOCATION:
SUMMARY:A Négyszögletű Kerek Erdő Küldetés
DESCRIPTION:Hirdetés Valóföldön: Lázár Ervin meséje ezúttal ténylegesen az erdőben kel életre! Egész estés családi programunknak a Lóvasút és a mögötte elterülő kiserdő ad helyet. A program egy fél órás interaktív kalandjátékkal veszi kezdetét\,  amelyben te vagy Maminti\,  a kicsi zöld tündér. Küldetésed célja\,  hogy megszerezd a világ megmentéséhez szükséges varázsigét.[..]\nhttps://lovasut.hu/events/a-negyszogletu-kerek-erdo-kuldetes-2/
URL:https://lovasut.hu/events/a-negyszogletu-kerek-erdo-kuldetes-2/
END:VEVENT
END:VCALENDAR