BEGIN:VCALENDAR
VERSION:2.0
PRODID:-//eventon.com NONSGML v1.0//EN
CALSCALE:GREGORIAN
METHOD:PUBLISH
BEGIN:VEVENT
UID:69e6107f772be
DTSTAMP:20260420T133943
DTSTART:20220818T180000Z
DTEND:20220818T210000Z
TZID:Europe/Budapest
LOCATION:
SUMMARY:A Négyszögletű Kerek Erdő Küldetés
DESCRIPTION:Kedves Nézőink! Sajnálattal értesítjük Önöket\,  hogy az egyik színész covid-megbetegedése miatt a csütörtöki (08.18.) és vasárnapi (08.21.) A Négyszögletű Kerek Erdő Küldetés előadások elmaradnak. A jegyek automatikusan visszaváltásra fognak kerülni. Amennyiben találunk pót-időpontot az előadásnak\,  jelezzük. Üdvözlettel: Lóvasút Hirdetés Valóföldön: Lázár Ervin meséje ezúttal ténylegesen az erdőben kel életre! Egész[..]\nhttps://lovasut.hu/events/a-negyszogletu-kerek-erdo-kuldetes-3/
URL:https://lovasut.hu/events/a-negyszogletu-kerek-erdo-kuldetes-3/
END:VEVENT
END:VCALENDAR