BEGIN:VCALENDAR
VERSION:2.0
PRODID:-//eventon.com NONSGML v1.0//EN
CALSCALE:GREGORIAN
METHOD:PUBLISH
BEGIN:VEVENT
UID:69e872abb4d4f
DTSTAMP:20260422T090307
DTSTART:20220918T190000Z
DTEND:20220918T201500Z
TZID:Europe/Budapest
LOCATION:
SUMMARY:Vendégünk a Jazzation acapella együttes!
DESCRIPTION:A Jazzation hazánk első számú jazz acappella együttese számos nemzetközi díjjal és együttműködéssel. Az öt énekes a zenei harmóniák megéneklésén túl a lelki harmónia megélésére is hangsúlyt fektet\,  és ez áthatja munkásságuk minden területét: jazzben és világzenében is megcsillantva a szakralitást. Jazzation: Come Sunday A Jazzation Magyarország első számú jazz[..]\nhttps://lovasut.hu/events/vendegunk-a-jazzation-acapella-egyuttes/
URL:https://lovasut.hu/events/vendegunk-a-jazzation-acapella-egyuttes/
END:VEVENT
END:VCALENDAR