BEGIN:VCALENDAR
VERSION:2.0
PRODID:-//eventon.com NONSGML v1.0//EN
CALSCALE:GREGORIAN
METHOD:PUBLISH
BEGIN:VEVENT
UID:69e85a0422aec
DTSTAMP:20260422T071756
DTSTART:20220925T190000Z
DTEND:20220925T201500Z
TZID:Europe/Budapest
LOCATION:
SUMMARY:"Átvilágítás" - Juhász Róza irodalmi estje Jókai Anna életéről
DESCRIPTION:Juhász Róza által megszerkesztett körülbelül 70 perces előadás Jókai Anna legfontosabb élethelyzeteit\,  filozófiai gondolatait kívánja a közönség elé tárni. Az azonos című önéletírása\,  amely az utolsó „átvilágítás”\,  összegzés\,  ezért választotta az előadás címének. Az előadást zenei bejátszások\,  illetve vetítés kíséri. A program az Ars Sacra Fesztivál keretein belül valósul meg.[..]\nhttps://lovasut.hu/events/atvilagitas-juhasz-roza-irodalmi-estje-jokai-anna-eleterol/
URL:https://lovasut.hu/events/atvilagitas-juhasz-roza-irodalmi-estje-jokai-anna-eleterol/
END:VEVENT
END:VCALENDAR