BEGIN:VCALENDAR
VERSION:2.0
PRODID:-//eventon.com NONSGML v1.0//EN
CALSCALE:GREGORIAN
METHOD:PUBLISH
BEGIN:VEVENT
UID:69e870500b55e
DTSTAMP:20260422T085304
DTSTART:20220901T190000Z
DTEND:20220901T211000Z
TZID:Europe/Budapest
LOCATION:
SUMMARY:Üvegfal
DESCRIPTION:Sajnálattal értesítjük nézőinket\,  hogy a szeptember 1-jei Üvegfal &#8211; Gryllus Dorka és Simon Kornél zenés szövegszínházi előadása elmarad. A megvásárolt jegyek érvényesek a következő\,  szeptember 13-i előadásra\,  vagy visszaváltjuk őket. A jegyvisszaváltási igényt itt jelezhetik: jegy@momkult.hu A többi előadásra (09.13.\,  10.12.\,  10.21.) továbbra is sok szeretettel várunk mindenkit! Dobray Sarolta[..]\nhttps://lovasut.hu/events/uvegfal-0901/
URL:https://lovasut.hu/events/uvegfal-0901/
END:VEVENT
END:VCALENDAR