BEGIN:VCALENDAR
VERSION:2.0
PRODID:-//eventon.com NONSGML v1.0//EN
CALSCALE:GREGORIAN
METHOD:PUBLISH
BEGIN:VEVENT
UID:69e875c5082ec
DTSTAMP:20260422T091621
DTSTART:20220912T193000Z
DTEND:20220912T204500Z
TZID:Europe/Budapest
LOCATION:
SUMMARY:67-es korongok - Jimi Hendrix első lemeze
DESCRIPTION:Zenei ikonok\,  korszakalkotó albumok – művészettörténeti megközelítésben Gimesy Péter művészettörténész rocktörténeti sorozatában minden alkalommal egy különleges és fordulópontnak számító albumot mutat be. Ezek a lemezek ma már megkerülhetetlenek\,  mérföldkőnek számítanak minden azóta alakult rockbanda számára\,  minden megjelent album tekintetében\,  alakítja a legtöbb zeneszerető ember ízlését. A rocktörténeti sorozat negyedik része[..]\nhttps://lovasut.hu/events/67-es-korongok-jimi-hendrix-elso-lemeze/
URL:https://lovasut.hu/events/67-es-korongok-jimi-hendrix-elso-lemeze/
END:VEVENT
END:VCALENDAR