BEGIN:VCALENDAR
VERSION:2.0
PRODID:-//eventon.com NONSGML v1.0//EN
CALSCALE:GREGORIAN
METHOD:PUBLISH
BEGIN:VEVENT
UID:69e860a244dda
DTSTAMP:20260422T074610
DTSTART:20221010T193000Z
DTEND:20221010T204500Z
TZID:Europe/Budapest
LOCATION:
SUMMARY:67-es korongok - Velvet Underground első lemeze
DESCRIPTION:Zenei ikonok\,  korszakalkotó albumok – művészettörténeti megközelítésben Gimesy Péter művészettörténész rocktörténeti sorozatában minden alkalommal egy különleges és fordulópontnak számító albumot mutat be. Ezek a lemezek ma már megkerülhetetlenek\,  mérföldkőnek számítanak minden azóta alakult rockbanda számára\,  minden megjelent album tekintetében\,  alakítja a legtöbb zeneszerető ember ízlését. Rocktörténeti sorozatunk ötödik részében a[..]\nhttps://lovasut.hu/events/67-es-korongok-velvet-underground/
URL:https://lovasut.hu/events/67-es-korongok-velvet-underground/
END:VEVENT
END:VCALENDAR