BEGIN:VCALENDAR
VERSION:2.0
PRODID:-//eventon.com NONSGML v1.0//EN
CALSCALE:GREGORIAN
METHOD:PUBLISH
BEGIN:VEVENT
UID:69e85a511f700
DTSTAMP:20260422T071913
DTSTART:20221016T170000Z
DTEND:20221016T180000Z
TZID:Europe/Budapest
LOCATION:
SUMMARY:OMNIBUS-koncertek
DESCRIPTION:&#8222;Zene komolyan mindenkinek!&#8221; A Surján Kamaraegyüttes klasszikus zenei sorozata\,  amely a házimuzsikálás hagyományát eleveníti fel. Családi koncert\,  ahová a felnőtteket a gyerekek is elkísérhetik. A kicsikkel zenepedagógus foglalkozik\,  hogy a szülők zavartalanul élvezhessék az előadást. A Megállóban mindannyian együtt muzsikálunk! Október 16.-i műsor: Mozart: D-dúr Templomi szonáta K. 69 J.[..]\nhttps://lovasut.hu/events/omnibus-koncertek-10/
URL:https://lovasut.hu/events/omnibus-koncertek-10/
END:VEVENT
END:VCALENDAR