BEGIN:VCALENDAR
VERSION:2.0
PRODID:-//eventon.com NONSGML v1.0//EN
CALSCALE:GREGORIAN
METHOD:PUBLISH
BEGIN:VEVENT
UID:69e83e6928ebd
DTSTAMP:20260422T052009
DTSTART:20230117T190000Z
DTEND:20230117T201000Z
TZID:Europe/Budapest
LOCATION:
SUMMARY:Haydnnal Londonban - A mindennapok
DESCRIPTION:Joseph Haydn londoni utazásairól szól Bősze Ádám legújabb előadás-sorozata\,  amelyből a hallgató nem csupán zene-\,  hanem kultúrtörténeti szempontból ismerheti meg\,  milyen körülmények között utazott\,  dolgozott és élt egy idegen országban az Esterházyak komponistája. 2023. JANUÁR 17. A MINDENNAPOK 2023. FEBRUÁR 13. COPFOK ÉS PARÓKÁK 2023. MÁRCIUS 14. “KEDVESEM\,  MEGTUDHATNÁM\,  HOGY[..]\nhttps://lovasut.hu/events/haydnnal-londonban-a-mindennapok/
URL:https://lovasut.hu/events/haydnnal-londonban-a-mindennapok/
END:VEVENT
END:VCALENDAR