BEGIN:VCALENDAR
VERSION:2.0
PRODID:-//eventon.com NONSGML v1.0//EN
CALSCALE:GREGORIAN
METHOD:PUBLISH
BEGIN:VEVENT
UID:69e8272e311fb
DTSTAMP:20260422T034102
DTSTART:20230213T190000Z
DTEND:20230213T201000Z
TZID:Europe/Budapest
LOCATION:
SUMMARY:Haydnnal Londonban - Copfok és parókák
DESCRIPTION:Joseph Haydn londoni utazásairól szól Bősze Ádám legújabb előadás-sorozata\,  amelyből a hallgató nem csupán zene-\,  hanem kultúrtörténeti szempontból ismerheti meg\,  milyen körülmények között utazott\,  dolgozott és élt egy idegen országban az Esterházyak komponistája. 2023. FEBRUÁR 13. COPFOK ÉS PARÓKÁK 2023. MÁRCIUS 14. “KEDVESEM\,  MEGTUDHATNÁM\,  HOGY VAN?” &#8211; HAYDN MAGÁNÉLETE 2023.[..]\nhttps://lovasut.hu/events/haydnnal-londonban-copfok-es-parokak/
URL:https://lovasut.hu/events/haydnnal-londonban-copfok-es-parokak/
END:VEVENT
END:VCALENDAR