BEGIN:VCALENDAR
VERSION:2.0
PRODID:-//eventon.com NONSGML v1.0//EN
CALSCALE:GREGORIAN
METHOD:PUBLISH
BEGIN:VEVENT
UID:69e8270dcdfe7
DTSTAMP:20260422T034029
DTSTART:20230314T190000Z
DTEND:20230314T201000Z
TZID:Europe/Budapest
LOCATION:
SUMMARY:Haydnnal Londonban - “KEDVESEM\,  MEGTUDHATNÁM\,  HOGY VAN?”
DESCRIPTION:Joseph Haydn londoni utazásairól szól Bősze Ádám legújabb előadás-sorozata\,  amelyből a hallgató nem csupán zene-\,  hanem kultúrtörténeti szempontból ismerheti meg\,  milyen körülmények között utazott\,  dolgozott és élt egy idegen országban az Esterházyak komponistája. 2023. MÁRCIUS 14. “KEDVESEM\,  MEGTUDHATNÁM\,  HOGY VAN?” &#8211; HAYDN MAGÁNÉLETE 2023. ÁPRILIS 17. HAYDN ECSETTEL 2023. MÁJUS[..]\nhttps://lovasut.hu/events/haydnnal-londonban-haydn-maganelete/
URL:https://lovasut.hu/events/haydnnal-londonban-haydn-maganelete/
END:VEVENT
END:VCALENDAR