BEGIN:VCALENDAR
VERSION:2.0
PRODID:-//eventon.com NONSGML v1.0//EN
CALSCALE:GREGORIAN
METHOD:PUBLISH
BEGIN:VEVENT
UID:69e80e0c6b6d8
DTSTAMP:20260422T015348
DTSTART:20230417T190000Z
DTEND:20230417T201000Z
TZID:Europe/Budapest
LOCATION:
SUMMARY:Haydnnal Londonban - Haydn ecsettel
DESCRIPTION:Joseph Haydn londoni utazásairól szól Bősze Ádám legújabb előadás-sorozata\,  amelyből a hallgató nem csupán zene-\,  hanem kultúrtörténeti szempontból ismerheti meg\,  milyen körülmények között utazott\,  dolgozott és élt egy idegen országban az Esterházyak komponistája. 2023. ÁPRILIS 17. HAYDN ECSETTEL 2023. MÁJUS 16. LONDONI EMLÉKEK Az előadások hossza kb. 70 perc szünet[..]\nhttps://lovasut.hu/events/haydnnal-londonban-haydn-ecsettel/
URL:https://lovasut.hu/events/haydnnal-londonban-haydn-ecsettel/
END:VEVENT
END:VCALENDAR