BEGIN:VCALENDAR
VERSION:2.0
PRODID:-//eventon.com NONSGML v1.0//EN
CALSCALE:GREGORIAN
METHOD:PUBLISH
BEGIN:VEVENT
UID:69e80e1121d11
DTSTAMP:20260422T015353
DTSTART:20230516T190000Z
DTEND:20230516T201000Z
TZID:Europe/Budapest
LOCATION:
SUMMARY:Haydnnal Londonban - Londoni emlékek
DESCRIPTION:Joseph Haydn londoni utazásairól szól Bősze Ádám legújabb előadás-sorozata\,  amelyből a hallgató nem csupán zene-\,  hanem kultúrtörténeti szempontból ismerheti meg\,  milyen körülmények között utazott\,  dolgozott és élt egy idegen országban az Esterházyak komponistája. 2022. OKTÓBER 11. UTAZÁSI LÁZ 2022. NOVEMBER 14. ÉLET LONDONBAN 2022. DECEMBER 12. ÉLET VIDÉKEN 2023. JANUÁR[..]\nhttps://lovasut.hu/events/haydnnal-londonban-londoni-emlekek/
URL:https://lovasut.hu/events/haydnnal-londonban-londoni-emlekek/
END:VEVENT
END:VCALENDAR