BEGIN:VCALENDAR
VERSION:2.0
PRODID:-//eventon.com NONSGML v1.0//EN
CALSCALE:GREGORIAN
METHOD:PUBLISH
BEGIN:VEVENT
UID:69e85a04167fe
DTSTAMP:20260422T071756
DTSTART:20221009T103000Z
DTEND:20221009T111500Z
TZID:Europe/Budapest
LOCATION:
SUMMARY:Kiss Ottó: A piros tengeralattjáró
DESCRIPTION:Bábszínházi előadások a Lóvasúton! A dédpapától kapott örökség\,  a titkok megfejtése a célja a piros tengeralattjáróval való különleges utazásnak. Luca\,  Dominik\,  a nagyszülők Turbó mama és Beton Tata\,  Cicussal együtt indulnak el egészen az Északi Sarkig. Sok-sok váratlan kalandban van részük\,  míg a bálnakutató dédpapa nyomába érnek\,  s az általa[..]\nhttps://lovasut.hu/events/kiss-otto-a-piros-tengeralattjaro/
URL:https://lovasut.hu/events/kiss-otto-a-piros-tengeralattjaro/
END:VEVENT
END:VCALENDAR