BEGIN:VCALENDAR
VERSION:2.0
PRODID:-//eventon.com NONSGML v1.0//EN
CALSCALE:GREGORIAN
METHOD:PUBLISH
BEGIN:VEVENT
UID:69e85a76061bf
DTSTAMP:20260422T071950
DTSTART:20221014T170000Z
DTEND:20221014T200000Z
TZID:Europe/Budapest
LOCATION:
SUMMARY:Salamin András: SVÁBHEGYI VILÁG KIRÁLYNŐJE ENGESZTELŐ KÁPOLNA KRÓNIKÁJA
DESCRIPTION:Sok szeretettel meghívunk minden érdeklődőt Salamin András: SVÁBHEGYI VILÁG KIRÁLYNŐJE ENGESZTELŐ KÁPOLNA KRÓNIKÁJA Natália nővér születésének 120. (2021) és földi távozásának 30. (2022) évfordulójára c. könyv bemutatójára A könyvben található még: Salamin András: SZENT ANNA KÁPOLNA &#8211; Mária-emlékhelyek a Budai-hegyvidéken Szent Anna-rét 2022 Időpont: 2022. október 14. (péntek) 17.00: helytörténeti[..]\nhttps://lovasut.hu/events/salamin-andras-svabhegyi-vilag-kiralynoje-engesztelo-kapolna-kronikaja/
URL:https://lovasut.hu/events/salamin-andras-svabhegyi-vilag-kiralynoje-engesztelo-kapolna-kronikaja/
END:VEVENT
END:VCALENDAR