BEGIN:VCALENDAR
VERSION:2.0
PRODID:-//eventon.com NONSGML v1.0//EN
CALSCALE:GREGORIAN
METHOD:PUBLISH
BEGIN:VEVENT
UID:69e83b4703854
DTSTAMP:20260422T050647
DTSTART:20221218T103000Z
DTEND:20221218T113000Z
TZID:Europe/Budapest
LOCATION:
SUMMARY:Aranyszamár Bábszínház: Régi karácsony
DESCRIPTION:Bábszínházi előadások a Lóvasúton! A karácsonyi készülődésben\,  lótás-futásban\,  sürgés-forgásban jó néha megpihenni. Megpihenni és gondolatban\,  lélekben készülni az ünnepre. Lelkünket pedig mi is nyitná meg könnyebben\,  mint a mesék. Különösen\,  ha azok\,  lélektől lélekig ható fajtából valók. A „Csodakalács” című népmese és Fekete István „Éjféli látogatók” című novellája épp ilyenek.[..]\nhttps://lovasut.hu/events/aranyszamar-babszinhaz-regi-karacsony/
URL:https://lovasut.hu/events/aranyszamar-babszinhaz-regi-karacsony/
END:VEVENT
END:VCALENDAR