BEGIN:VCALENDAR
VERSION:2.0
PRODID:-//eventon.com NONSGML v1.0//EN
CALSCALE:GREGORIAN
METHOD:PUBLISH
BEGIN:VEVENT
UID:69e85a0c16cdf
DTSTAMP:20260422T071804
DTSTART:20221024T190000Z
DTEND:20221024T203000Z
TZID:Europe/Budapest
LOCATION:
SUMMARY:Kire ütött ez a gyerek?
DESCRIPTION:*** IDÉN UTOLJÁRA! *** ooo Szereplők: > HÁMORI ILDIKÓ Kossuth- és Jászai Mari-díjas magyar színművésznő\,  Érdemes és Kiváló Művész\,  a Halhatatlanok Társulatának örökös tagja\,  valamint az Ivánka Csaba Alapítvány kuratóriumának képviselője > HORVÁTH LILI Jászai Mari-díjas színésznő > STEIGERVALD KRISZTIÁN generációkutató Az est megálmodója: TOLLÁR MÓNIKA rendező Portréfotók (Hámori Ildikó[..]\nhttps://lovasut.hu/events/kire-utott-ez-a-gyerek-2/
URL:https://lovasut.hu/events/kire-utott-ez-a-gyerek-2/
END:VEVENT
END:VCALENDAR