BEGIN:VCALENDAR
VERSION:2.0
PRODID:-//eventon.com NONSGML v1.0//EN
CALSCALE:GREGORIAN
METHOD:PUBLISH
BEGIN:VEVENT
UID:69e85a511fd18
DTSTAMP:20260422T071913
DTSTART:20221027T180000Z
DTEND:20221027T203000Z
TZID:Europe/Budapest
LOCATION:
SUMMARY:Jótékonysági koncert a magányos idősekért
DESCRIPTION:Szeretettel meghívjuk Önt az Önkéntes Központ Alapítvány 20. születésnapja alkalmából rendezett jótékonysági koncertre\,  amelynek bevételéből az Idősek Barátai Programot támogatjuk. Az elszigetelten élő. magányos időseket szeretnénk egy szép karácsonyi ünnepséggel\,  ajándékokkal meglepni. Kérjük\,  jöjjön el\,  töltsön velünk el egy kellemes estét\,  hallgassa meg az előadást\,  teremtsen kapcsolatokat és járuljon hozzá[..]\nhttps://lovasut.hu/events/jotekonysagi-koncert-a-maganyos-idosekert/
URL:https://lovasut.hu/events/jotekonysagi-koncert-a-maganyos-idosekert/
END:VEVENT
END:VCALENDAR