BEGIN:VCALENDAR
VERSION:2.0
PRODID:-//eventon.com NONSGML v1.0//EN
CALSCALE:GREGORIAN
METHOD:PUBLISH
BEGIN:VEVENT
UID:69e85abc4e30b
DTSTAMP:20260422T072100
DTSTART:20221108T190000Z
DTEND:20221108T200000Z
TZID:Europe/Budapest
LOCATION:
SUMMARY:A zene hatalma
DESCRIPTION:Szeretettel várunk minden kedves érdeklődőt őszi koncertünkre\,  melyre ismét változatos repertoárral készülünk. Az utóbbi időben leginkább egyházi témájú darabok szólaltak meg általunk\,  ezért most műsorlistába elsősorban a világi zene nagyjai közül kerültek művek a késő reneszánsztól kezdve egészen a 20. századig bezárólag. A belépés ingyenes! A keddi koncert után lesz[..]\nhttps://lovasut.hu/events/oriolus-korus-koncert-a-lovasuton/
URL:https://lovasut.hu/events/oriolus-korus-koncert-a-lovasuton/
END:VEVENT
END:VCALENDAR