BEGIN:VCALENDAR
VERSION:2.0
PRODID:-//eventon.com NONSGML v1.0//EN
CALSCALE:GREGORIAN
METHOD:PUBLISH
BEGIN:VEVENT
UID:69e8601c4f9c2
DTSTAMP:20260422T074356
DTSTART:20221118T150000Z
DTEND:20221118T163000Z
TZID:Europe/Budapest
LOCATION:
SUMMARY:Dante Casino Podcast
DESCRIPTION:A Dante Casino állandó alkotói a számukra fontos\,  életüket meghatározó emberekkel beszélgetnek nézők előtt\,  vágatlanul\,  másfél órán keresztül. &#8222;Célunk\,  hogy az évad során minél reprezentatívabb képet adjunk a társadalomról\,  bemutatva annak olyan szereplőit\,  akiket a hasonló műsorok mellőzni szoktak. Hiszünk benne\,  hogy így alkotótársaink olyan oldalait ismerjük meg\,  ami nekünk[..]\nhttps://lovasut.hu/events/dante-casino-podcast/
URL:https://lovasut.hu/events/dante-casino-podcast/
END:VEVENT
END:VCALENDAR