BEGIN:VCALENDAR
VERSION:2.0
PRODID:-//eventon.com NONSGML v1.0//EN
CALSCALE:GREGORIAN
METHOD:PUBLISH
BEGIN:VEVENT
UID:69e8414599990
DTSTAMP:20260422T053221
DTSTART:20230105T190000Z
DTEND:20230105T203000Z
TZID:Europe/Budapest
LOCATION:
SUMMARY:Happy 2023
DESCRIPTION:A Chameleon Jazz Band hagyományos újévi örömkoncertje 2023. január 5-én\,  csütörtökön este 7 órakor a Lóvasút Kulturális és Rendezvényközpont Peronján. A dallamos jazz-t és az igényes popzenét ötvöző Chameleon Jazz Band formáció az elmúlt években 9 európai ország 50 városban több mint 350 koncertet adott. 2021 tavaszán jelent meg nyolc[..]\nhttps://lovasut.hu/events/happy-2023/
URL:https://lovasut.hu/events/happy-2023/
END:VEVENT
END:VCALENDAR