BEGIN:VCALENDAR
VERSION:2.0
PRODID:-//eventon.com NONSGML v1.0//EN
CALSCALE:GREGORIAN
METHOD:PUBLISH
BEGIN:VEVENT
UID:69e840804508b
DTSTAMP:20260422T052904
DTSTART:20221210T190000Z
DTEND:20221210T203000Z
TZID:Europe/Budapest
LOCATION:
SUMMARY:Dante Casino Podcast
DESCRIPTION:A DanteCasino egy most alakuló színházi mozgalom\,  amelynek szellemiségét fiatal színházi alkotók a még fiatalabb generációkkal együtt alakítják. A DanteCasino az online platformokat arra kívánja használni\,  hogy minél több fiatalhoz érjen el. Állandó alkotói most podcast csatornát indítanak: a számukra fontos\,  életüket meghatározó emberekkel beszélgetnek\,  akikkel már hosszú évek óta[..]\nhttps://lovasut.hu/events/dante-casino-podcast-2/
URL:https://lovasut.hu/events/dante-casino-podcast-2/
END:VEVENT
END:VCALENDAR